OziExplorer Map Data File Version 2.2
K-37-V Геологическая карта РФ
K-37-V.jpg
1 ,Map Code,
Pulkovo 1942 (2),WGS 84, 0.0000, 0.0000,WGS 84
Reserved 1
Reserved 2
Magnetic Variation,,,E
Map Projection,Transverse Mercator,PolyCal,No,AutoCalOnly,No,BSBUseWPX,No
Point01,xy, 3144, 364,in, deg, 44, 0,N, 40, 0,E, grid, , , ,N
Point02,xy, 9472, 304,in, deg, 44, 0,N, 41, 0,E, grid, , , ,N
Point03,xy, 3173, 6165,in, deg, 43, 20,N, 40, 0,E, grid, , , ,N
Point04,xy, 9560, 6104,in, deg, 43, 20,N, 41, 0,E, grid, , , ,N
Point05,xy, 9511, 3202,in, deg, 43, 40,N, 41, 0,E, grid, , , ,N
Point06,xy, 3160, 3259,in, deg, 43, 40,N, 40, 0,E, grid, , , ,N
Point07,xy, 6306, 342,in, deg, 44, 0,N, 40, 30,E, grid, , , ,N
Point08,xy, 6368, 6146,in, deg, 43, 20,N, 40, 30,E, grid, , , ,N
Point09,xy, , ,in, deg, , ,N, , ,E, grid, , , ,N
Point10,xy, , ,in, deg, , ,, , ,, grid, , , ,
Point11,xy, , ,in, deg, , ,, , ,, grid, , , ,
Point12,xy, , ,in, deg, , ,, , ,, grid, , , ,
Point13,xy, , ,in, deg, , ,, , ,, grid, , , ,
Point14,xy, , ,in, deg, , ,, , ,, grid, , , ,
Point15,xy, , ,in, deg, , ,, , ,, grid, , , ,
Point16,xy, , ,in, deg, , ,, , ,, grid, , , ,
Point17,xy, , ,in, deg, , ,, , ,, grid, , , ,
Point18,xy, , ,in, deg, , ,, , ,, grid, , , ,
Point19,xy, , ,in, deg, , ,, , ,, grid, , , ,
Point20,xy, , ,in, deg, , ,, , ,, grid, , , ,
Point21,xy, , ,in, deg, , ,, , ,, grid, , , ,
Point22,xy, , ,in, deg, , ,, , ,, grid, , , ,
Point23,xy, , ,in, deg, , ,, , ,, grid, , , ,
Point24,xy, , ,in, deg, , ,, , ,, grid, , , ,
Point25,xy, , ,in, deg, , ,, , ,, grid, , , ,
Point26,xy, , ,in, deg, , ,, , ,, grid, , , ,
Point27,xy, , ,in, deg, , ,, , ,, grid, , , ,
Point28,xy, , ,in, deg, , ,, , ,, grid, , , ,
Point29,xy, , ,in, deg, , ,, , ,, grid, , , ,
Point30,xy, , ,in, deg, , ,, , ,, grid, , , ,
Projection Setup, 0.000000000, 39.000000000, 1.000000000, 500000.00, 0.00,,,,,
Map Feature = MF ; Map Comment = MC These follow if they exist
Track File = TF These follow if they exist
Moving Map Parameters = MM? These follow if they exist
MM0,Yes
MMPNUM,4
MMPXY,1,3125,346
MMPXY,2,9481,298
MMPXY,3,9566,6103
MMPXY,4,3162,6177
MMPLL,1, 39.996553, 44.001889
MMPLL,2, 41.002236, 44.000511
MMPLL,3, 41.000661, 43.333522
MMPLL,4, 39.998531, 43.331805
MM1B,12.686925
MOP,Map Open Position,0,0
IWH,Map Image Width/Height,14064,10248
